BEGIN:VCALENDAR
VERSION:2.0
PRODID:-//ChamberMaster//Event Calendar 2.0//EN
METHOD:PUBLISH
X-PUBLISHED-TTL:P3D
REFRESH-INTERVAL:P3D
CALSCALE:GREGORIAN
BEGIN:VEVENT
DTSTART:20191111T170000Z
DTEND:20191111T173000Z
X-MICROSOFT-CDO-ALLDAYEVENT:FALSE
SUMMARY:11th Hour Ceremony
DESCRIPTION:Video by LHS class.
X-ALT-DESC;FMTTYPE=text/html:Video by LHS class.
LOCATION:Heartland Museum of Military Vehicles\, 606 Heartland Road.
UID:e.2171.6321
SEQUENCE:3
DTSTAMP:20260425T165941Z
URL:http://lexcoc.chambermaster.com/events/details/11th-hour-ceremony-6321
END:VEVENT

END:VCALENDAR
